BEGIN:VCALENDAR
VERSION:2.0
PRODID:-//JumpStart Inc. - ECPv6.15.20//NONSGML v1.0//EN
CALSCALE:GREGORIAN
METHOD:PUBLISH
X-ORIGINAL-URL:https://jumpstartinc.org
X-WR-CALDESC:Events for JumpStart Inc.
REFRESH-INTERVAL;VALUE=DURATION:PT1H
X-Robots-Tag:noindex
X-PUBLISHED-TTL:PT1H
BEGIN:VTIMEZONE
TZID:America/Detroit
BEGIN:DAYLIGHT
TZOFFSETFROM:-0500
TZOFFSETTO:-0400
TZNAME:EDT
DTSTART:20240310T070000
END:DAYLIGHT
BEGIN:STANDARD
TZOFFSETFROM:-0400
TZOFFSETTO:-0500
TZNAME:EST
DTSTART:20241103T060000
END:STANDARD
BEGIN:DAYLIGHT
TZOFFSETFROM:-0500
TZOFFSETTO:-0400
TZNAME:EDT
DTSTART:20250309T070000
END:DAYLIGHT
BEGIN:STANDARD
TZOFFSETFROM:-0400
TZOFFSETTO:-0500
TZNAME:EST
DTSTART:20251102T060000
END:STANDARD
BEGIN:DAYLIGHT
TZOFFSETFROM:-0500
TZOFFSETTO:-0400
TZNAME:EDT
DTSTART:20260308T070000
END:DAYLIGHT
BEGIN:STANDARD
TZOFFSETFROM:-0400
TZOFFSETTO:-0500
TZNAME:EST
DTSTART:20261101T060000
END:STANDARD
END:VTIMEZONE
BEGIN:VEVENT
DTSTART;TZID=America/Detroit:20250402T080000
DTEND;TZID=America/Detroit:20250402T093000
DTSTAMP:20260422T064646
CREATED:20250312T143001Z
LAST-MODIFIED:20250312T143001Z
UID:10000017-1743580800-1743586200@jumpstartinc.org
SUMMARY:Introduction to Cybersecurity for Small Businesses
DESCRIPTION:Dr. Olivia K. Hernandez\, Lead Engineer in Industrial Cybersecurity at The Ohio State University’s Center for Design and Manufacturing Excellence\, will provide an introduction to cybersecurity and best practices for small businesses. She will cover topics such as cyber inventories\, password hygiene\, and cybersecurity risk assessments. Let her help save you time\, money\, and headaches by avoiding costly cyberattacks. You can reach her at: Hernandez.127@osu.edu. \nShe will also share information about free cybersecurity training for Ohio small businesses funded in part through a Cooperative Agreement with the U.S. Small Business Administration. The 3-5 hour course dives into topics such as internal auditing\, vendor management\, and phishing. Interested participants can register for this free course at cdme.osu.edu/sba and can bring questions about the program to this educational session.
URL:https://jumpstartinc.org/event/introduction-to-cybersecurity-for-small-businesses
LOCATION:The Ohio State University at Mansfield\, 1760 University Dr\, Mansfield\, OH\, 44906\, United States
CATEGORIES:Small Business
ATTACH;FMTTYPE=image/jpeg:https://jumpstartinc.org/wp-content/uploads/2025/03/smallbiz-cybersecurity.jpg
END:VEVENT
BEGIN:VEVENT
DTSTART;TZID=America/Detroit:20250423T120000
DTEND;TZID=America/Detroit:20250423T140000
DTSTAMP:20260422T064646
CREATED:20250203T212808Z
LAST-MODIFIED:20250224T151624Z
UID:10000006-1745409600-1745416800@jumpstartinc.org
SUMMARY:How PARA Business Systems and Notion Can Help You Achieve Rapid Growth & Peace of Mind
DESCRIPTION:Disorganized systems and information overload can slow down even the most promising businesses. In this session\, Jordan Ray C. Miller will introduce the PARA methodology and show how Notion can bring structure\, clarity\, and efficiency to your operations. Learn how leading startups and businesses use these tools to solve common challenges\, streamline workflows\, and scale effectively. \nWhat You’ll Learn:\n✅ The real cost of scattered systems and mental overwhelm\n✅ How modern tools like Notion address critical growth challenges\n✅ The four key components of the PARA methodology for business clarity\n✅ Real-world examples of Notion in action at successful companies\n✅ Practical steps to simplify operations while scaling \n🎁 Bonus: Attendees will receive The Complete “Founders System” Notion Template (limited-time access). \nThis webinar is open to all JumpStart clients\, partners\, and community businesses. Registration is required to receive the webinar link. \n📩 Questions? [Click here to email us.]
URL:https://jumpstartinc.org/event/how-para-business-systems-and-notion-can-help-you-achieve-rapid-growth-peace-of-mind
LOCATION:Zoom Webinar
CATEGORIES:Small Business,Webinar
ATTACH;FMTTYPE=image/jpeg:https://jumpstartinc.org/wp-content/uploads/2025/02/April-Webinar_PARA-Business-Systems-Photo.jpg
END:VEVENT
END:VCALENDAR