BEGIN:VCALENDAR
VERSION:2.0
PRODID:-//JumpStart Inc. - ECPv6.15.20//NONSGML v1.0//EN
CALSCALE:GREGORIAN
METHOD:PUBLISH
X-ORIGINAL-URL:https://jumpstartinc.org
X-WR-CALDESC:Events for JumpStart Inc.
REFRESH-INTERVAL;VALUE=DURATION:PT1H
X-Robots-Tag:noindex
X-PUBLISHED-TTL:PT1H
BEGIN:VTIMEZONE
TZID:America/Detroit
BEGIN:DAYLIGHT
TZOFFSETFROM:-0500
TZOFFSETTO:-0400
TZNAME:EDT
DTSTART:20250309T070000
END:DAYLIGHT
BEGIN:STANDARD
TZOFFSETFROM:-0400
TZOFFSETTO:-0500
TZNAME:EST
DTSTART:20251102T060000
END:STANDARD
BEGIN:DAYLIGHT
TZOFFSETFROM:-0500
TZOFFSETTO:-0400
TZNAME:EDT
DTSTART:20260308T070000
END:DAYLIGHT
BEGIN:STANDARD
TZOFFSETFROM:-0400
TZOFFSETTO:-0500
TZNAME:EST
DTSTART:20261101T060000
END:STANDARD
BEGIN:DAYLIGHT
TZOFFSETFROM:-0500
TZOFFSETTO:-0400
TZNAME:EDT
DTSTART:20270314T070000
END:DAYLIGHT
BEGIN:STANDARD
TZOFFSETFROM:-0400
TZOFFSETTO:-0500
TZNAME:EST
DTSTART:20271107T060000
END:STANDARD
END:VTIMEZONE
BEGIN:VEVENT
DTSTART;TZID=America/Detroit:20260506T170000
DTEND;TZID=America/Detroit:20260506T190000
DTSTAMP:20260422T220340
CREATED:20250528T161233Z
LAST-MODIFIED:20260309T201354Z
UID:10000066-1778086800-1778094000@jumpstartinc.org
SUMMARY:Customer Discovery with AI
DESCRIPTION:Customer Discovery with AI Tools helps entrepreneurs understand their customers more effectively using artificial intelligence. Participants explore tools like ChatGPT\, Typeform\, and analytics platforms to generate survey questions\, identify trends\, and extract actionable insights. This hands-on workshop equips small business owners with practical strategies to align their products and services with real customer needs. 
URL:https://jumpstartinc.org/event/customer-discovery-with-ai
LOCATION:CSU Learning Center\, 2485 Euclid Ave.\, Cleveland\, OH\, 44115\, United States
CATEGORIES:Cleveland Learning Centers,Small Business,Tech
ATTACH;FMTTYPE=image/jpeg:https://jumpstartinc.org/wp-content/uploads/2025/05/verizon-events.jpg
END:VEVENT
BEGIN:VEVENT
DTSTART;TZID=America/Detroit:20260512T170000
DTEND;TZID=America/Detroit:20260512T200000
DTSTAMP:20260422T220340
CREATED:20260325T183744Z
LAST-MODIFIED:20260330T144227Z
UID:10000114-1778605200-1778616000@jumpstartinc.org
SUMMARY:Stark County Small Business Impact Program Showcase
DESCRIPTION:You’re invited to meet the graduating cohort of JumpStart’s Stark County Small Business Impact Program at their showcase presentation. \nThis event will feature a live pitch competition as the five Impact Program participants present their businesses to a panel of judges for the chance to take home up to $10\,000. All other participants will receive $2\,500. \nAfter 12 weeks of intensive learning and preparation\, these entrepreneurs will take to the stage and show their stuff in the hopes of winning the grand prize. \nCheer on the participants and show your support for the local business owners whose shops and services strengthen our diverse communities. \nRefreshments provided.
URL:https://jumpstartinc.org/event/stark-county-small-business-impact-program-showcase-may2026
LOCATION:Hall of Fame Village\, 2101 Champions Gateway\, Canton\, OH\, 44708\, United States
CATEGORIES:Small Business
ATTACH;FMTTYPE=image/jpeg:https://jumpstartinc.org/wp-content/uploads/2026/03/JS-Stark-Cohort-5-SHOWCASE-EB-HEADER-scaled.jpg
END:VEVENT
BEGIN:VEVENT
DTSTART;TZID=America/Detroit:20260513T120000
DTEND;TZID=America/Detroit:20260513T140000
DTSTAMP:20260422T220340
CREATED:20260421T154903Z
LAST-MODIFIED:20260421T154903Z
UID:10000139-1778673600-1778680800@jumpstartinc.org
SUMMARY:The C.L.E.A.R. Infrastructure™: Solving the Scaling Gap
DESCRIPTION:As your business grows\, what used to work… starts to break. Manual processes pile up. Systems don’t talk to each other. Your team spends more time reacting than moving forward. \nJoin JumpStart and Leland Baptist of Ignite Business Software for a practical\, no-fluff webinar designed to help you identify what’s slowing your operations down and what to do about it. \nThis session focuses on helping entrepreneurs and small business owners uncover hidden inefficiencies\, streamline workflows\, and build systems that actually support growth. \nIn this session\, you’ll learn how to: \n\nSpot the “silent leaks” draining your time\, energy\, and margins\nSeparate necessary work from operational inefficiency\nAudit your workflows and identify bottlenecks\nShift from founder-driven execution to scalable\, system-supported operations\nApply the C.L.E.A.R. Infrastructure™ framework (Capture\, Leverage\, Engage\, Align\, Recover) to improve how your business runs\n\nWalk away with a clearer view of where your operations are holding you back and practical ways to fix it. \nWebinars are open to all JumpStart clients\, partners\, and community businesses. Registration is required to receive the webinar link.
URL:https://jumpstartinc.org/event/the-c-l-e-a-r-infrastructure-solving-the-scaling-gap
LOCATION:Zoom Webinar
CATEGORIES:Small Business,Webinar
ATTACH;FMTTYPE=image/jpeg:https://jumpstartinc.org/wp-content/uploads/2026/04/MAY-Webinar-CLEAR-Infrastructure-Landscape-Social-Image.jpg
END:VEVENT
BEGIN:VEVENT
DTSTART;TZID=America/Detroit:20260514T080000
DTEND;TZID=America/Detroit:20260514T100000
DTSTAMP:20260422T220340
CREATED:20260422T140249Z
LAST-MODIFIED:20260422T140249Z
UID:10000141-1778745600-1778752800@jumpstartinc.org
SUMMARY:Small Business Education Session: Unlocking “Vibe Coding” for Your Business
DESCRIPTION:Sometimes the right tool for your business simply doesn’t exist\, so you build it. \nThat’s the idea behind “vibe coding\,” an emerging\, practical approach to using AI to create custom apps\, workflows\, and solutions tailored to your unique business needs. \nIn this session\, Tim Marshall will walk small business owners through how AI can help you design the exact tool your workflow is missing. Tim has been doing extensive work in this space and will introduce participants to the principles of vibe coding as well as Base44\, a platform used to vibe code a tailored application for your business. \nDuring the session\, Tim will: \n\nExplain what vibe coding is\nProvide an overview of the Base44 platform and how it works\nShare examples from the COSE AI for Small Business Cohort\nDemonstrate the range of what’s possible: from internal tools (like client onboarding workflows) to entirely new customerfacing products or even standalone businesses\n\nWhether you’re curious about what AI can do or ready to build your first custom tool\, this session will give you the clarity\, inspiration\, and next steps to get started.
URL:https://jumpstartinc.org/event/small-business-education-session-unlocking-vibe-coding-for-your-business
LOCATION:Greater Cleveland Partnership\, 1240 Huron Rd. East\, Cleveland\, OH\, 44115\, United States
CATEGORIES:Small Business
ATTACH;FMTTYPE=image/jpeg:https://jumpstartinc.org/wp-content/uploads/2026/04/cose-event.jpg
END:VEVENT
BEGIN:VEVENT
DTSTART;TZID=America/Detroit:20260520T120000
DTEND;TZID=America/Detroit:20260520T140000
DTSTAMP:20260422T220340
CREATED:20260421T170431Z
LAST-MODIFIED:20260421T170431Z
UID:10000140-1779278400-1779285600@jumpstartinc.org
SUMMARY:Reporting\, Dashboarding\, and KPIs for Small Business
DESCRIPTION:JumpStart welcomes Mark Steward of The Legacy Optimizer for a practical session designed to help entrepreneurs and small business owners better understand what’s really happening inside their business and what to do about it. \nAs your business grows\, it becomes harder to rely on instinct alone. Without the right metrics in place\, it’s easy to miss early warning signs\, overlook opportunities\, or make decisions without a clear picture of performance. This session will show you how to define the right KPIs\, build simple reporting systems\, and create a dashboard that gives you real-time clarity. \nYou’ll walk away with a more structured approach to measuring performance\, identifying gaps\, and using data to guide smarter\, more confident decisions. \nTopics covered: \n\nMeasuring business performance across core functions\nIdentifying and defining 5–10 KPIs tailored to your business\nWhat makes reporting truly useful (and what to avoid)\nBuilding an owner’s dashboard that actually drives decisions\n\nAttendees will learn: \n\nHow to evaluate performance across internal and external business drivers\nHow to go beyond basic financials to uncover meaningful insights\nHow to use financial ratios to diagnose challenges and inefficiencies\nHow to use KPIs to surface growth opportunities and improve outcomes\n\nWebinars are open to all JumpStart clients\, partners\, and community businesses. Registration is required to receive the webinar link.
URL:https://jumpstartinc.org/event/reporting-dashboarding-and-kpis-for-small-business
LOCATION:Zoom Webinar
CATEGORIES:Small Business,Webinar
ATTACH;FMTTYPE=image/jpeg:https://jumpstartinc.org/wp-content/uploads/2026/04/MAY-Webinar-Reporting-Dashboarding-KPIs-Landscape-Social-Image.jpg
END:VEVENT
BEGIN:VEVENT
DTSTART;TZID=America/Detroit:20260603T173000
DTEND;TZID=America/Detroit:20260603T193000
DTSTAMP:20260422T220340
CREATED:20260326T184244Z
LAST-MODIFIED:20260326T184244Z
UID:10000129-1780507800-1780515000@jumpstartinc.org
SUMMARY:Pitch Decks with Canva
DESCRIPTION:Create or refine your pitch deck using Canva templates and storytelling techniques that appeal to funders and partners. \n\n\n\n\nPitch Decks with Canva guides entrepreneurs through the structure and design of a winning pitch presentation. Participants explore key sections such as problem\, solution\, market opportunity\, and value proposition while using Canva templates and branding tools to create polished\, professional decks. \nLaptops or other devices are encouraged; the Learning Center can provide a device if needed. \n\n\n\n\nParking: \n\nParking in the CSU East Garage will be validated after each session for those who register.\nMetered parking and RTA transportation are also available.\n\nEnter through the double doors next to the surface parking lot and turn right to find the Learning Center. \nRestrooms and vending are located on the first floor in the hallway near the elevators.
URL:https://jumpstartinc.org/event/pitch-decks-with-canva-2
LOCATION:CSU Learning Center\, 2485 Euclid Ave.\, Cleveland\, OH\, 44115\, United States
CATEGORIES:Cleveland Learning Centers,Small Business
ATTACH;FMTTYPE=image/jpeg:https://jumpstartinc.org/wp-content/uploads/2025/05/verizon-events.jpg
END:VEVENT
BEGIN:VEVENT
DTSTART;TZID=America/Detroit:20260708T173000
DTEND;TZID=America/Detroit:20260708T193000
DTSTAMP:20260422T220340
CREATED:20260326T184406Z
LAST-MODIFIED:20260326T184406Z
UID:10000130-1783531800-1783539000@jumpstartinc.org
SUMMARY:AI Magic in Canva
DESCRIPTION:Create high-quality\, on-brand marketing content faster by using AI tools to boost creativity and cut production time. \n\n\n\n\nAI Magic in Canva teaches entrepreneurs how to leverage Canva’s AI tools including Magic Write\, Text-to-Image\, and smart design templates to produce high-quality marketing materials. Participants create social media posts\, visuals\, and branded content while learning how AI can enhance creativity and reduce production time. \nLaptops or other devices are encouraged; the Learning Center can provide a device if needed. \n\n\n\n\nParking: \n\nParking in the CSU East Garage will be validated after each session for those who register.\nMetered parking and RTA transportation are also available.\n\nEnter through the double doors next to the surface parking lot and turn right to find the Learning Center. \nRestrooms and vending are located on the first floor in the hallway near the elevators.
URL:https://jumpstartinc.org/event/ai-magic-in-canva
LOCATION:CSU Learning Center\, 2485 Euclid Ave.\, Cleveland\, OH\, 44115\, United States
CATEGORIES:Cleveland Learning Centers,Small Business
ATTACH;FMTTYPE=image/jpeg:https://jumpstartinc.org/wp-content/uploads/2025/05/verizon-events.jpg
END:VEVENT
BEGIN:VEVENT
DTSTART;TZID=America/Detroit:20260722T173000
DTEND;TZID=America/Detroit:20260722T193000
DTSTAMP:20260422T220340
CREATED:20260326T184635Z
LAST-MODIFIED:20260326T184635Z
UID:10000131-1784741400-1784748600@jumpstartinc.org
SUMMARY:AI Magic in Canva
DESCRIPTION:Create high-quality\, on-brand marketing content faster by using AI tools to boost creativity and cut production time. \n\n\n\n\nAI Magic in Canva teaches entrepreneurs how to leverage Canva’s AI tools including Magic Write\, Text-to-Image\, and smart design templates to produce high-quality marketing materials. Participants create social media posts\, visuals\, and branded content while learning how AI can enhance creativity and reduce production time. \nLaptops or other devices are encouraged; the Learning Center can provide a device if needed.
URL:https://jumpstartinc.org/event/ai-magic-in-canva-2
LOCATION:Union-Miles Learning Center\, 11300 Miles Ave.\, Cleveland\, OH\, 44105\, United States
CATEGORIES:Cleveland Learning Centers,Small Business
ATTACH;FMTTYPE=image/jpeg:https://jumpstartinc.org/wp-content/uploads/2025/05/verizon-events.jpg
END:VEVENT
BEGIN:VEVENT
DTSTART;TZID=America/Detroit:20260723T100000
DTEND;TZID=America/Detroit:20260723T110000
DTSTAMP:20260422T220340
CREATED:20260105T141517Z
LAST-MODIFIED:20260105T141517Z
UID:10000098-1784800800-1784804400@jumpstartinc.org
SUMMARY:Caffeinated Ideas at Braintree
DESCRIPTION:Do you have a great business idea\, or do you already have a business and need some advice? Do you have business expertise and are willing to help others?\nIf any of these apply\, then join us for a cup of coffee and plan to brainstorm some business ideas with a group of knowledgeable and supportive experts. Entrepreneurs from throughout Northern Ohio are welcome to participate. \nWe encourage you to bring your ideas\, concepts and products\, no matter what stage of the development you are in\, and the group will explore the idea and help you to better position it for the market place. There is no cost to attend\, but please register. \nFor questions or additional information contact 419 610-5924 or bcohen@braintreepartners.org.
URL:https://jumpstartinc.org/event/caffeinated-ideas-at-braintree-4
LOCATION:Braintree Building\, 201 East Fifth Street\, Mansfield\, OH\, 44902\, United States
CATEGORIES:Small Business,Tech
ATTACH;FMTTYPE=image/jpeg:https://jumpstartinc.org/wp-content/uploads/2025/03/braintree-logo.jpg
END:VEVENT
BEGIN:VEVENT
DTSTART;TZID=America/Detroit:20260902T173000
DTEND;TZID=America/Detroit:20260902T190000
DTSTAMP:20260422T220340
CREATED:20260326T184823Z
LAST-MODIFIED:20260326T184823Z
UID:10000132-1788370200-1788375600@jumpstartinc.org
SUMMARY:Organize Your Financials with QuickBooks
DESCRIPTION:Learn how to track income and expenses\, manage invoices\, and streamline your bookkeeping using QuickBooks. \n\n\n\n\nOrganize Your Financials with QuickBooks provides entrepreneurs with practical training in managing business finances efficiently. Participants learn how to set up accounts\, categorize transactions\, reconcile statements\, and generate essential financial reports such as Profit & Loss and Cash Flow statements. This interactive session builds confidence and financial clarity for small business growth. \nLaptops or other devices are encouraged; the Learning Center can provide a device if needed. \n\n\n\n\nParking: \n\nParking in the CSU East Garage will be validated after each session for those who register.\nMetered parking and RTA transportation are also available.\n\nEnter through the double doors next to the surface parking lot and turn right to find the Learning Center. \nRestrooms and vending are located on the first floor in the hallway near the elevators.
URL:https://jumpstartinc.org/event/organize-your-financials-with-quickbooks-4
LOCATION:CSU Learning Center\, 2485 Euclid Ave.\, Cleveland\, OH\, 44115\, United States
CATEGORIES:Cleveland Learning Centers,Small Business
ATTACH;FMTTYPE=image/jpeg:https://jumpstartinc.org/wp-content/uploads/2025/05/verizon-events.jpg
END:VEVENT
BEGIN:VEVENT
DTSTART;TZID=America/Detroit:20260916T173000
DTEND;TZID=America/Detroit:20260916T190000
DTSTAMP:20260422T220340
CREATED:20260326T184959Z
LAST-MODIFIED:20260326T184959Z
UID:10000133-1789579800-1789585200@jumpstartinc.org
SUMMARY:Organize Your Financials with QuickBooks
DESCRIPTION:Learn how to track income and expenses\, manage invoices\, and streamline your bookkeeping using QuickBooks. \n\n\n\n\nOrganize Your Financials with QuickBooks provides entrepreneurs with practical training in managing business finances efficiently. Participants learn how to set up accounts\, categorize transactions\, reconcile statements\, and generate essential financial reports such as Profit & Loss and Cash Flow statements. This interactive session builds confidence and financial clarity for small business growth. \nLaptops or other devices are encouraged; the Learning Center can provide a device if needed.
URL:https://jumpstartinc.org/event/organize-your-financials-with-quickbooks-5
LOCATION:Union-Miles Learning Center\, 11300 Miles Ave.\, Cleveland\, OH\, 44105\, United States
CATEGORIES:Cleveland Learning Centers,Small Business
ATTACH;FMTTYPE=image/jpeg:https://jumpstartinc.org/wp-content/uploads/2025/05/verizon-events.jpg
END:VEVENT
BEGIN:VEVENT
DTSTART;TZID=America/Detroit:20261027T100000
DTEND;TZID=America/Detroit:20261027T110000
DTSTAMP:20260422T220340
CREATED:20260326T181839Z
LAST-MODIFIED:20260326T181839Z
UID:10000125-1793095200-1793098800@jumpstartinc.org
SUMMARY:Caffeinated Ideas at Braintree
DESCRIPTION:Do you have a great business idea\, or do you already have a business and need some advice? Do you have business expertise and are willing to help others?\nIf any of these apply\, then join us for a cup of coffee and plan to brainstorm some business ideas with a group of knowledgeable and supportive experts. Entrepreneurs from throughout Northern Ohio are welcome to participate. \nWe encourage you to bring your ideas\, concepts and products\, no matter what stage of the development you are in\, and the group will explore the idea and help you to better position it for the market place. There is no cost to attend\, but please register. \nFor questions or additional information contact 419 610-5924 or bcohen@braintreepartners.org.
URL:https://jumpstartinc.org/event/caffeinated-ideas-at-braintree-5
LOCATION:Braintree Building\, 201 East Fifth Street\, Mansfield\, OH\, 44902\, United States
CATEGORIES:Small Business,Tech
ATTACH;FMTTYPE=image/jpeg:https://jumpstartinc.org/wp-content/uploads/2025/03/braintree-logo.jpg
END:VEVENT
END:VCALENDAR