BEGIN:VCALENDAR
VERSION:2.0
PRODID:-//JumpStart Inc. - ECPv6.15.20//NONSGML v1.0//EN
CALSCALE:GREGORIAN
METHOD:PUBLISH
X-WR-CALNAME:JumpStart Inc.
X-ORIGINAL-URL:https://jumpstartinc.org
X-WR-CALDESC:Events for JumpStart Inc.
REFRESH-INTERVAL;VALUE=DURATION:PT1H
X-Robots-Tag:noindex
X-PUBLISHED-TTL:PT1H
BEGIN:VTIMEZONE
TZID:America/Detroit
BEGIN:DAYLIGHT
TZOFFSETFROM:-0500
TZOFFSETTO:-0400
TZNAME:EDT
DTSTART:20240310T070000
END:DAYLIGHT
BEGIN:STANDARD
TZOFFSETFROM:-0400
TZOFFSETTO:-0500
TZNAME:EST
DTSTART:20241103T060000
END:STANDARD
BEGIN:DAYLIGHT
TZOFFSETFROM:-0500
TZOFFSETTO:-0400
TZNAME:EDT
DTSTART:20250309T070000
END:DAYLIGHT
BEGIN:STANDARD
TZOFFSETFROM:-0400
TZOFFSETTO:-0500
TZNAME:EST
DTSTART:20251102T060000
END:STANDARD
BEGIN:DAYLIGHT
TZOFFSETFROM:-0500
TZOFFSETTO:-0400
TZNAME:EDT
DTSTART:20260308T070000
END:DAYLIGHT
BEGIN:STANDARD
TZOFFSETFROM:-0400
TZOFFSETTO:-0500
TZNAME:EST
DTSTART:20261101T060000
END:STANDARD
END:VTIMEZONE
BEGIN:VEVENT
DTSTART;TZID=America/Detroit:20250319T100000
DTEND;TZID=America/Detroit:20250319T113000
DTSTAMP:20260421T164410
CREATED:20250310T154902Z
LAST-MODIFIED:20250310T154902Z
UID:10000015-1742378400-1742383800@jumpstartinc.org
SUMMARY:Beyond Startup: Intellectual Property Protections
DESCRIPTION:Protecting your startup’s ideas and innovations is crucial for long-term success. Join us for a hands-on workshop on Intellectual Property Protections\, where we’ll guide you through the basics of patents\, trademarks\, and copyrights. Learn how to choose the right protections and conduct IP searches for your business. Plus\, stick around after the workshop for 1-on-1 advising with our facilitator in The Generator coworking space!
URL:https://jumpstartinc.org/event/beyond-startup-intellectual-property-protections
LOCATION:Bounce Innovation Hub\, 526 South Main Street\, Akron\, OH\, 44311\, United States
CATEGORIES:Small Business,Tech
ATTACH;FMTTYPE=image/jpeg:https://jumpstartinc.org/wp-content/uploads/2025/03/bounce-copyright-event.jpg
END:VEVENT
BEGIN:VEVENT
DTSTART;TZID=America/Detroit:20250319T120000
DTEND;TZID=America/Detroit:20250319T140000
DTSTAMP:20260421T164410
CREATED:20250213T221431Z
LAST-MODIFIED:20250213T221517Z
UID:10000007-1742385600-1742392800@jumpstartinc.org
SUMMARY:Work Smarter\, Not Harder: How Entrepreneurs Can Leverage Generative AI
DESCRIPTION:Tired of spending hours on tasks that could be streamlined with AI? Join us for an exclusive webinar with Felesia McDonald of iWeb Designs 360\, where we’ll break down how Generative AI can help you save time\, boost efficiency\, and unlock new opportunities for your business. \nWhat You’ll Learn: \n\nThe fundamentals of Generative AI and why it matters for entrepreneurs\nBest practices for integrating AI tools into your workflow\nReal-world applications and time-saving AI tools designed for business owners\nHow to write better AI prompts to get smarter\, more effective results\n\nWhy You Should Attend: \n\nLearn how AI can automate tasks and free up your time for big-picture growth\nDiscover the best AI tools and features to enhance your business operations\nWalk away with immediately actionable strategies to improve efficiency and decision-making\n\nDon’t miss this chance to gain practical AI insights that will help you work smarter\, not harder. Register now! \nWebinars are open to all Jumpstart clients\, partners\, and community businesses. Registration is required to receive the webinar link.
URL:https://jumpstartinc.org/event/work-smarter-not-harder-how-entrepreneurs-can-leverage-generative-ai
LOCATION:Zoom Webinar
CATEGORIES:Small Business,Tech,Webinar
ATTACH;FMTTYPE=image/jpeg:https://jumpstartinc.org/wp-content/uploads/2025/02/Photo.jpg
END:VEVENT
BEGIN:VEVENT
DTSTART;TZID=America/Detroit:20250320T120000
DTEND;TZID=America/Detroit:20250320T133000
DTSTAMP:20260421T164410
CREATED:20250219T212336Z
LAST-MODIFIED:20250219T212336Z
UID:10000012-1742472000-1742477400@jumpstartinc.org
SUMMARY:Planning Your Startup's Future Through Financial Modeling
DESCRIPTION:Join us on Thursday\, March 20 as part of the Case Western Reserve University Entrepreneurship Skills Lab Series for a workshop on Planning Your Startup’s Future Through Financial Modeling with Phelan Spence\, Financial Analyst and Services Manager at JumpStart Inc. \nPhelan empowers entrepreneurs and business owners by helping illuminate their financial possibilities. In Spanish and English\, he advises clients on pricing\, financial projections\, goal-setting\, and presenting financials to investors and lenders. Phelan also supports JumpStart’s team of Business Analysts to help serve our internal and external clients as efficiently as possible.
URL:https://jumpstartinc.org/event/planning-your-startups-future-through-financial-modeling
LOCATION:Sears think[box]\, 11201 Cedar Ave\, Cleveland\, OH\, 44106\, United States
CATEGORIES:Tech
ATTACH;FMTTYPE=image/png:https://jumpstartinc.org/wp-content/uploads/2025/02/r3_image_upload_3491171_10102024Phelan_Spence_1_121394537.png
END:VEVENT
BEGIN:VEVENT
DTSTART;TZID=America/Detroit:20250326T173000
DTEND;TZID=America/Detroit:20250326T193000
DTSTAMP:20260421T164410
CREATED:20250310T180625Z
LAST-MODIFIED:20250310T180731Z
UID:10000016-1743010200-1743017400@jumpstartinc.org
SUMMARY:SPARK Akron Mixer
DESCRIPTION:SPARK is bringing together Greater Akron’s entrepreneurial community for an evening of productive connections\, resource sharing\, and guidance shared over food and drink on the second floor of The Generator at Bounce. For entrepreneurs looking to scale their business\, this event offers an opportunity to foster relationships that will build community and drive success.
URL:https://jumpstartinc.org/event/spark-akron-mixer
LOCATION:Bounce Innovation Hub\, 526 South Main Street\, Akron\, OH\, 44311\, United States
CATEGORIES:Small Business,Tech
ATTACH;FMTTYPE=image/jpeg:https://jumpstartinc.org/wp-content/uploads/2025/03/spark-mixer.jpg
END:VEVENT
END:VCALENDAR