BEGIN:VCALENDAR
VERSION:2.0
PRODID:-//JumpStart Inc. - ECPv6.15.20//NONSGML v1.0//EN
CALSCALE:GREGORIAN
METHOD:PUBLISH
X-ORIGINAL-URL:https://jumpstartinc.org
X-WR-CALDESC:Events for JumpStart Inc.
REFRESH-INTERVAL;VALUE=DURATION:PT1H
X-Robots-Tag:noindex
X-PUBLISHED-TTL:PT1H
BEGIN:VTIMEZONE
TZID:America/Detroit
BEGIN:DAYLIGHT
TZOFFSETFROM:-0500
TZOFFSETTO:-0400
TZNAME:EDT
DTSTART:20240310T070000
END:DAYLIGHT
BEGIN:STANDARD
TZOFFSETFROM:-0400
TZOFFSETTO:-0500
TZNAME:EST
DTSTART:20241103T060000
END:STANDARD
BEGIN:DAYLIGHT
TZOFFSETFROM:-0500
TZOFFSETTO:-0400
TZNAME:EDT
DTSTART:20250309T070000
END:DAYLIGHT
BEGIN:STANDARD
TZOFFSETFROM:-0400
TZOFFSETTO:-0500
TZNAME:EST
DTSTART:20251102T060000
END:STANDARD
BEGIN:DAYLIGHT
TZOFFSETFROM:-0500
TZOFFSETTO:-0400
TZNAME:EDT
DTSTART:20260308T070000
END:DAYLIGHT
BEGIN:STANDARD
TZOFFSETFROM:-0400
TZOFFSETTO:-0500
TZNAME:EST
DTSTART:20261101T060000
END:STANDARD
END:VTIMEZONE
BEGIN:VEVENT
DTSTART;VALUE=DATE:20250916
DTEND;VALUE=DATE:20250918
DTSTAMP:20260421T081548
CREATED:20250804T171254Z
LAST-MODIFIED:20250804T171254Z
UID:10000078-1757980800-1758153599@jumpstartinc.org
SUMMARY:Ohio VC Fest '25
DESCRIPTION:Ohio’s Premier Startup & Venture Capital Event is Back! \nThis year\, Ohio VC Fest will spotlight AI and emerging trends shaping the future of innovation and venture capital. Featuring impactful speakers and industry leaders\, our programming will dive into how AI is redefining industries and creating the next phase of venture growth. \nJoin leading VCs\, angel investors\, founders\, and industry pioneers for two days of high-impact networking\, deal-making\, and world-class thought leadership. Don’t miss your chance to be part of Ohio’s thriving VC and startup scene. \nRegister today to connect with industry innovators\, disruptors\, and motivated founders and investors who are fueling growth and shaping the Midwest’s tech economy.
URL:https://jumpstartinc.org/event/ohio-vc-fest-25
LOCATION:Huntington Convesntion Center\, 300 Lakeside Ave E\, Cleveland\, OH\, 44113\, United States
CATEGORIES:Tech
ATTACH;FMTTYPE=image/jpeg:https://jumpstartinc.org/wp-content/uploads/2025/08/vcfest-eventthumb.jpg
END:VEVENT
BEGIN:VEVENT
DTSTART;TZID=America/Detroit:20250925T170000
DTEND;TZID=America/Detroit:20250925T210000
DTSTAMP:20260421T081548
CREATED:20250826T204245Z
LAST-MODIFIED:20250826T204245Z
UID:10000081-1758819600-1758834000@jumpstartinc.org
SUMMARY:PNC Startup Showcase
DESCRIPTION:The PNC Startup Showcase is a celebration of our programs and companies\, benefiting Bounce Innovation Hub!\nOrder your tickets today for Bounce Innovation Hub’s biggest event of the year! This event offers a unique opportunity to network with entrepreneurs and regional business leaders.\nEnjoy a fun\, engaging evening of networking\, food\, presentations\, and more! \nDinner Program \n\nThe dinner program will feature welcoming remarks from our Title and Presenting Sponsors\, Bounce Board Chair Hans Dorfi\, and our President and CEO\, Jessica Sublett.\n\nStartup Presentations & Audience Choice Pitch Award \n\nHear from our featured startup companies as they take you through a pitch presentation of their business.\nFollowing the presentations\, the audience will be able to vote\, and the winner will receive a $5\,000 prize presented by Wave Strategy.\n\nPanel Discussion Presented by WonderKiln \n\nA panel featuring a selection of companies from last year’s Showcase will be hosted by WonderKiln’s James Hilton.\nIsaiah Kaiser of Auxilium\, Deb Helton of RaidoHub\, and Charles Hubbard of Papertrail will join the panel to discuss updates for their company since their appearance on the Pitch contest stage last year.\n\nSilent Auction – Entries begin August 7th \n\nStarting August 7th running through the Showcase event\, we will launch an exciting silent auction for a once-in-a-lifetime\, priceless experience: Two seats to ride the Goodyear Blimp! The winner will be announced at the completion of the dinner program.\n\nNetworking \n\nAfter the Audience Choice Pitch Award and Silent Auction winners are named\, attendees are invited into The Generator space to connect with potential mentors\, clients\, investors\, and fellow entrepreneurs.
URL:https://jumpstartinc.org/event/pnc-startup-showcase
LOCATION:Bounce Innovation Hub\, 526 South Main Street\, Akron\, OH\, 44311\, United States
CATEGORIES:Tech
ATTACH;FMTTYPE=image/jpeg:https://jumpstartinc.org/wp-content/uploads/2025/08/https___cdn.evbuc_.com_images_1074997573_291025511458_1_original.jpg
END:VEVENT
END:VCALENDAR