BEGIN:VCALENDAR
VERSION:2.0
PRODID:-//JumpStart Inc. - ECPv6.15.20//NONSGML v1.0//EN
CALSCALE:GREGORIAN
METHOD:PUBLISH
X-WR-CALNAME:JumpStart Inc.
X-ORIGINAL-URL:https://jumpstartinc.org
X-WR-CALDESC:Events for JumpStart Inc.
REFRESH-INTERVAL;VALUE=DURATION:PT1H
X-Robots-Tag:noindex
X-PUBLISHED-TTL:PT1H
BEGIN:VTIMEZONE
TZID:America/Detroit
BEGIN:DAYLIGHT
TZOFFSETFROM:-0500
TZOFFSETTO:-0400
TZNAME:EDT
DTSTART:20240310T070000
END:DAYLIGHT
BEGIN:STANDARD
TZOFFSETFROM:-0400
TZOFFSETTO:-0500
TZNAME:EST
DTSTART:20241103T060000
END:STANDARD
BEGIN:DAYLIGHT
TZOFFSETFROM:-0500
TZOFFSETTO:-0400
TZNAME:EDT
DTSTART:20250309T070000
END:DAYLIGHT
BEGIN:STANDARD
TZOFFSETFROM:-0400
TZOFFSETTO:-0500
TZNAME:EST
DTSTART:20251102T060000
END:STANDARD
BEGIN:DAYLIGHT
TZOFFSETFROM:-0500
TZOFFSETTO:-0400
TZNAME:EDT
DTSTART:20260308T070000
END:DAYLIGHT
BEGIN:STANDARD
TZOFFSETFROM:-0400
TZOFFSETTO:-0500
TZNAME:EST
DTSTART:20261101T060000
END:STANDARD
END:VTIMEZONE
BEGIN:VEVENT
DTSTART;TZID=America/Detroit:20251001T080000
DTEND;TZID=America/Detroit:20251001T180000
DTSTAMP:20260421T063325
CREATED:20250219T210016Z
LAST-MODIFIED:20250312T143341Z
UID:10000011-1759305600-1759341600@jumpstartinc.org
SUMMARY:Kickstart Ohio
DESCRIPTION:Kickstart Ohio celebrates innovation\, entrepreneurship\, and community growth in Ohio. The event connects entrepreneurs\, investors\, and businesses to share ideas\, collaborate\, and grow. Attendees will gain insights from industry leaders\, network with peers\, and experience the vibrant spirit of Ohio’s entrepreneurial ecosystem. \nJoin entrepreneurs\, founders\, and business leaders at Kickstart Ohio for three days of learning and connection. Get practical insights and meet the people shaping Ohio’s business future.
URL:https://jumpstartinc.org/event/kickstart-ohio
LOCATION:Hilton Columbus at Easton\, 3900 Chagrin Drive\, Columbus\, OH\, 43219\, United States
CATEGORIES:Tech
ATTACH;FMTTYPE=image/jpeg:https://jumpstartinc.org/wp-content/uploads/2025/02/kickstart.jpg
END:VEVENT
BEGIN:VEVENT
DTSTART;TZID=America/Detroit:20251002T160000
DTEND;TZID=America/Detroit:20251002T180000
DTSTAMP:20260421T063325
CREATED:20250528T145853Z
LAST-MODIFIED:20250528T145853Z
UID:10000042-1759420800-1759428000@jumpstartinc.org
SUMMARY:AI Assistants for the Overworked Entrepreneur
DESCRIPTION:Discover AI tools that automate tasks\, streamline communication\, and support your daily business operations. \nNo registration required. Just show up!
URL:https://jumpstartinc.org/event/ai-assistants-for-the-overworked-entrepreneur
LOCATION:Fulton Library Learning Center\, 3545 Fulton Rd.\, Cleveland\, OH\, 44109\, United States
CATEGORIES:Small Business,Tech
ATTACH;FMTTYPE=image/jpeg:https://jumpstartinc.org/wp-content/uploads/2025/05/verizon-events.jpg
END:VEVENT
BEGIN:VEVENT
DTSTART;TZID=America/Detroit:20251003T170000
DTEND;TZID=America/Detroit:20251003T190000
DTSTAMP:20260421T063325
CREATED:20250528T145937Z
LAST-MODIFIED:20250528T150223Z
UID:10000043-1759510800-1759518000@jumpstartinc.org
SUMMARY:AI Assistants for the Overworked Entrepreneur
DESCRIPTION:Discover AI tools that automate tasks\, streamline communication\, and support your daily business operations. \nNo registration required. Just show up!
URL:https://jumpstartinc.org/event/ai-assistants-for-the-overworked-entrepreneur-2
LOCATION:Union-Miles Learning Center\, 11300 Miles Ave.\, Cleveland\, OH\, 44105\, United States
CATEGORIES:Small Business,Tech
ATTACH;FMTTYPE=image/jpeg:https://jumpstartinc.org/wp-content/uploads/2025/05/verizon-events.jpg
END:VEVENT
BEGIN:VEVENT
DTSTART;TZID=America/Detroit:20251008T170000
DTEND;TZID=America/Detroit:20251008T190000
DTSTAMP:20260421T063325
CREATED:20250528T150329Z
LAST-MODIFIED:20250528T150329Z
UID:10000044-1759942800-1759950000@jumpstartinc.org
SUMMARY:AI Assistants for the Overworked Entrepreneur
DESCRIPTION:Discover AI tools that automate tasks\, streamline communication\, and support your daily business operations. \nNo registration required. Just show up!
URL:https://jumpstartinc.org/event/ai-assistants-for-the-overworked-entrepreneur-3
LOCATION:CSU Learning Center\, 2485 Euclid Ave.\, Cleveland\, OH\, 44115\, United States
CATEGORIES:Small Business,Tech
ATTACH;FMTTYPE=image/jpeg:https://jumpstartinc.org/wp-content/uploads/2025/05/verizon-events.jpg
END:VEVENT
BEGIN:VEVENT
DTSTART;TZID=America/Detroit:20251023T100000
DTEND;TZID=America/Detroit:20251023T110000
DTSTAMP:20260421T063325
CREATED:20250826T135659Z
LAST-MODIFIED:20250826T135659Z
UID:10000080-1761213600-1761217200@jumpstartinc.org
SUMMARY:Caffeinated Ideas at Braintree
DESCRIPTION:Do you have a great business idea\, or do you already have a business and need some advice? Do you have business expertise and are willing to help others? \nIf any of these apply\, then join us for a cup of coffee and plan to brainstorm some business ideas with a group of knowledgeable and supportive experts. Entrepreneurs from throughout Northern Ohio are welcome to participate. \nWe encourage you to bring your ideas\, concepts and products\, no matter what stage of the development you are in\, and the group will explore the idea and help you to better position it for the market place. \nThere is no cost to attend\, but please register. For questions or additional information contact 419-610-5924 or bcohen@braintreepartners.org.
URL:https://jumpstartinc.org/event/caffeinated-ideas-at-braintree-2
LOCATION:Braintree Building\, 201 East Fifth Street\, Mansfield\, OH\, 44902\, United States
CATEGORIES:Tech
ATTACH;FMTTYPE=image/jpeg:https://jumpstartinc.org/wp-content/uploads/2025/03/braintree-logo.jpg
END:VEVENT
BEGIN:VEVENT
DTSTART;TZID=America/Detroit:20251029T080000
DTEND;TZID=America/Detroit:20251029T170000
DTSTAMP:20260421T063325
CREATED:20250910T181446Z
LAST-MODIFIED:20250910T181446Z
UID:10000085-1761724800-1761757200@jumpstartinc.org
SUMMARY:4th Annual Osborne ETA Symposium
DESCRIPTION:Thinking about buying a business—or ready to grow the one you own? Join us for the 4th Annual Entrepreneurship Through Acquisition (ETA) Symposium: the premier event for aspiring and experienced operators looking to act on opportunity. \nETA is a powerful path to business ownership—acquiring and growing an existing company\, not starting from scratch. What makes our approach different? We focus on helping individuals become credible buyers outside the narrow confines of the traditional search fund model. Our proven method supports aspiring entrepreneurs in gaining traction\, earning trust\, and ultimately closing deals. \n\nRegistration and Networking: 9:45 am – 10:15 am\nMain Event: 10:15 am – 5:15 pm\nNetworking Social: 5:15 – 6:00 pm\n\nWHY ATTEND:\nNow in its fourth year\, the Symposium consistently sells out and is rated 9 out of 10 by attendees. Programming spans the full ETA lifecycle—from first-time exploration to post-acquisition growth—and includes valuable opportunities to connect with the network that supports successful ETA deals. \nThis full-day program will feature general sessions and workshops (3 tracks) about ETA served up in an interactive format. \n\n 
URL:https://jumpstartinc.org/event/4th-annual-osborne-eta-symposium
LOCATION:Tinkham Veale University Center\, 11038 Bellflower Road\, Cleveland\, OH\, 44106\, United States
CATEGORIES:Tech
ATTACH;FMTTYPE=image/jpeg:https://jumpstartinc.org/wp-content/uploads/2025/09/https___cdn.evbuc_.com_images_1111960773_2854975802251_1_original.jpg
END:VEVENT
END:VCALENDAR