BEGIN:VCALENDAR
VERSION:2.0
PRODID:-//JumpStart Inc. - ECPv6.15.20//NONSGML v1.0//EN
CALSCALE:GREGORIAN
METHOD:PUBLISH
X-ORIGINAL-URL:https://jumpstartinc.org
X-WR-CALDESC:Events for JumpStart Inc.
REFRESH-INTERVAL;VALUE=DURATION:PT1H
X-Robots-Tag:noindex
X-PUBLISHED-TTL:PT1H
BEGIN:VTIMEZONE
TZID:America/Detroit
BEGIN:DAYLIGHT
TZOFFSETFROM:-0500
TZOFFSETTO:-0400
TZNAME:EDT
DTSTART:20250309T070000
END:DAYLIGHT
BEGIN:STANDARD
TZOFFSETFROM:-0400
TZOFFSETTO:-0500
TZNAME:EST
DTSTART:20251102T060000
END:STANDARD
BEGIN:DAYLIGHT
TZOFFSETFROM:-0500
TZOFFSETTO:-0400
TZNAME:EDT
DTSTART:20260308T070000
END:DAYLIGHT
BEGIN:STANDARD
TZOFFSETFROM:-0400
TZOFFSETTO:-0500
TZNAME:EST
DTSTART:20261101T060000
END:STANDARD
BEGIN:DAYLIGHT
TZOFFSETFROM:-0500
TZOFFSETTO:-0400
TZNAME:EDT
DTSTART:20270314T070000
END:DAYLIGHT
BEGIN:STANDARD
TZOFFSETFROM:-0400
TZOFFSETTO:-0500
TZNAME:EST
DTSTART:20271107T060000
END:STANDARD
END:VTIMEZONE
BEGIN:VEVENT
DTSTART;TZID=America/Detroit:20260311T100000
DTEND;TZID=America/Detroit:20260311T110000
DTSTAMP:20260421T095920
CREATED:20260105T141356Z
LAST-MODIFIED:20260105T141356Z
UID:10000097-1773223200-1773226800@jumpstartinc.org
SUMMARY:Caffeinated Ideas at Braintree
DESCRIPTION:Do you have a great business idea\, or do you already have a business and need some advice? Do you have business expertise and are willing to help others?\nIf any of these apply\, then join us for a cup of coffee and plan to brainstorm some business ideas with a group of knowledgeable and supportive experts. Entrepreneurs from throughout Northern Ohio are welcome to participate. \nWe encourage you to bring your ideas\, concepts and products\, no matter what stage of the development you are in\, and the group will explore the idea and help you to better position it for the market place. There is no cost to attend\, but please register. \nFor questions or additional information contact 419 610-5924 or bcohen@braintreepartners.org.
URL:https://jumpstartinc.org/event/caffeinated-ideas-at-braintree-3
LOCATION:Braintree Building\, 201 East Fifth Street\, Mansfield\, OH\, 44902\, United States
CATEGORIES:Small Business,Tech
ATTACH;FMTTYPE=image/jpeg:https://jumpstartinc.org/wp-content/uploads/2025/03/braintree-logo.jpg
END:VEVENT
BEGIN:VEVENT
DTSTART;TZID=America/Detroit:20260319T103000
DTEND;TZID=America/Detroit:20260319T180000
DTSTAMP:20260421T095920
CREATED:20260224T161442Z
LAST-MODIFIED:20260224T161442Z
UID:10000105-1773916200-1773943200@jumpstartinc.org
SUMMARY:Trailblazer Accelerator Winter Showcase - Software
DESCRIPTION:Join us for the Trailblazer Software Accelerator Startup Showcase\, where a curated group of high-growth software startups take the stage.\n\n\n\nJumpStart’s Software Accelerator Startup Showcase\, sponsored by Big Kitty Labs is a high-impact event featuring venture-ready software pitches\, curated networking\, and a forward-looking conversation about the decisions shaping Ohio’s B2B tech ecosystem. \nAfter months of intensive growth coaching\, strategic advisory\, and investor preparation\, Trailblazer founders are ready to present companies built for scale. \nWhat to Expect \nLive Startup Pitches \nHear directly from high-growth B2B software founders solving meaningful problems across industries. Each company has been selected for its market opportunity\, execution capability\, and readiness for capital. \nFeatured Panel Discussion \nShaping Ohio’s Tech Future: Decisions that Define Our B2B Ecosystem \nInvestors and founders will share candid perspectives on the critical decisions that build resilient companies\, strong talent pipelines\, and a thriving regional tech economy. \nModerated by JumpStart’s CEO\, Lorne Novick\, the conversation will feature: \n\nTushar Kulkarni\, Founder & CEO\, Big Kitty Labs\nJaimin Gandhi\, Co-founder & CTO\, Redi.Health\nRay Bohac\, CEO & Co-founder\, Spearfish\nTatyana Hower\, Managing Partner\, JobsOhio Ventures\n\nCurated Networking \nConnect directly with founders\, investors\, operators\, and regional innovation leaders in a focused\, high-signal environment. \nWhy Attend? \n\nDiscover venture-ready software companies\nIdentify early investment and partnership opportunities\nGain insight into Ohio’s evolving B2B tech landscape\nBuild meaningful relationships within the innovation ecosystem\n\nWhether you’re deploying capital\, scaling a company\, or supporting regional growth\, this Showcase offers direct access to companies (and conversations) that matter. \n\nAbout the Trailblazer Software Accelerator \nThe Trailblazer Software Accelerator supports high-potential software startups with intensive growth programming designed to prepare companies for venture capital and scalable expansion. The Showcase marks the culmination of that work and the beginning of each company’s next growth phase. \nSpace is limited. Register now to secure your spot.
URL:https://jumpstartinc.org/event/trailblazer-accelerator-winter-showcase-software
LOCATION:Midtown Collaboration Center\, 1974 East 66th Street\, Cleveland\, OH\, 44103\, United States
CATEGORIES:Tech
ATTACH;FMTTYPE=image/jpeg:https://jumpstartinc.org/wp-content/uploads/2026/02/ESP-TRAILBLAZER-SW4-TB-HEADER-1-scaled.jpg
END:VEVENT
BEGIN:VEVENT
DTSTART;TZID=America/Detroit:20260401T100000
DTEND;TZID=America/Detroit:20260401T113000
DTSTAMP:20260421T095920
CREATED:20260326T180926Z
LAST-MODIFIED:20260326T180926Z
UID:10000115-1775037600-1775043000@jumpstartinc.org
SUMMARY:Beyond Startup: Learn AI to Turbocharge Sales
DESCRIPTION:Ready or not\, AI is here to stay! AI will become the biggest business game-changer since the industrial assembly line\, antibiotics\, jet engines\, or the internet. The evolution of artificial intelligence is accelerating\, with new AI tools being created weekly. Business and sales professionals know they need AI\, but most have no idea where to start. This workshop will give an understanding of AI\, how it can save time\, improve efficiency\, and enhance customer service\, while turbocharging sales growth through increasing face-to-face customer time. \nThis workshop is designed to introduce the audience to AI and how it applies to sales\, CRM\, lead generation and management\, customer communications\, sales analytics\, and more. Attendees will learn about a stack of potential AI tools they can install and use to see sales impact within weeks\, not months.
URL:https://jumpstartinc.org/event/beyond-startup-learn-ai-to-turbocharge-sales
LOCATION:Bounce Innovation Hub\, 526 South Main Street\, Akron\, OH\, 44311\, United States
CATEGORIES:Tech
ATTACH;FMTTYPE=image/webp:https://jumpstartinc.org/wp-content/uploads/2026/03/image-1.webp
END:VEVENT
BEGIN:VEVENT
DTSTART;TZID=America/Detroit:20260401T160000
DTEND;TZID=America/Detroit:20260401T180000
DTSTAMP:20260421T095920
CREATED:20250528T160321Z
LAST-MODIFIED:20260309T200929Z
UID:10000062-1775059200-1775066400@jumpstartinc.org
SUMMARY:Effective Networking with LinkedIn
DESCRIPTION:Effective Networking with LinkedIn helps entrepreneurs and job seekers optimize their profiles\, expand their networks\, and leverage LinkedIn for career and business growth. Participants learn profile best practices\, content engagement strategies\, and how to use tools like the LinkedIn Digital Share Card to make lasting professional impressions. 
URL:https://jumpstartinc.org/event/effective-networking-with-linkedin-4
LOCATION:CSU Learning Center\, 2485 Euclid Ave.\, Cleveland\, OH\, 44115\, United States
CATEGORIES:Cleveland Learning Centers,Small Business,Tech
ATTACH;FMTTYPE=image/jpeg:https://jumpstartinc.org/wp-content/uploads/2025/05/verizon-events.jpg
END:VEVENT
BEGIN:VEVENT
DTSTART;TZID=America/Detroit:20260410T130000
DTEND;TZID=America/Detroit:20260410T134500
DTSTAMP:20260421T095920
CREATED:20260326T182254Z
LAST-MODIFIED:20260326T182254Z
UID:10000126-1775826000-1775828700@jumpstartinc.org
SUMMARY:The Future of Making Things: Modernizing the Chemical Supply Chain
DESCRIPTION:Join us on Friday\, April 10th as part of the Case Western Reserve University Entrepreneurship Speaker Series for a roundtable discussion with Jordan Swisher co-founder of Amber Industrials. \nThrough his work\, Swisher is focuses on modernising industrial chemical manufacturing by combining cutting edge manufacturing with sustainable technology. At Amber Industrials\, he is helping reimagine how materials like nylon are produced\, using electrification and hydrogen to make processes that are faster\, cheaper and cleaner than traditional methods. \nAmber Industrial’s approach addresses longstanding inefficiencies in the chemical industry while significantly reducing emissions\, demostrating how innovation and entrepreneurship can reshape legacy industries. Swisher’s experience in startup tech and applied chemistry will provide students with an inside look at the intersection of science\, sustainability and business. \nTo register for this event\, please indicate your in-person or virtual attendance. \nThe Veale Institute for Entrepreneurship hosts discussions from highly-accomplished industry professionals to speak with current students and alumni who are interested in topics within the entrepreneurial ecosystem. Participating guests are encouraged to arrive prepared with questions and topics for discussion.
URL:https://jumpstartinc.org/event/the-future-of-making-things-modernizing-the-chemical-supply-chain
LOCATION:Sears think[box]\, 11201 Cedar Ave\, Cleveland\, OH\, 44106\, United States
CATEGORIES:Tech
ATTACH;FMTTYPE=image/png:https://jumpstartinc.org/wp-content/uploads/2026/03/r3_image_upload_5168217_4102026_Jordan_Swisher_35161713.png
END:VEVENT
BEGIN:VEVENT
DTSTART;TZID=America/Detroit:20260414T170000
DTEND;TZID=America/Detroit:20260414T200000
DTSTAMP:20260421T095920
CREATED:20260326T182455Z
LAST-MODIFIED:20260326T182455Z
UID:10000127-1776186000-1776196800@jumpstartinc.org
SUMMARY:Morgenthaler-Pavey Startup Competition
DESCRIPTION:The Morgenthaler-Pavey Startup Competition is an annual pitch competition hosted by the CWRU Veale Institute for Entrepreneurship. Finalist teams will pitch their startups or ideas to a panel of judges in one of three tracks: Venture\, Idea and Social Impact for a chance to win funding from a prize pool of $45\,000. \nThe event will take place on the first floor of Sears think[box] on April 14 2026 from 5:00PM – 8PM\, with the Venture Track and awards ceremony also being live streamed.
URL:https://jumpstartinc.org/event/morgenthaler-pavey-startup-competition
LOCATION:Sears think[box]\, 11201 Cedar Ave\, Cleveland\, OH\, 44106\, United States
CATEGORIES:Tech
ATTACH;FMTTYPE=image/png:https://jumpstartinc.org/wp-content/uploads/2026/03/r3_image_upload_5168217_Event_Graphic_2271465.png
END:VEVENT
BEGIN:VEVENT
DTSTART;TZID=America/Detroit:20260422T080000
DTEND;TZID=America/Detroit:20260422T170000
DTSTAMP:20260421T095920
CREATED:20260326T181336Z
LAST-MODIFIED:20260330T150736Z
UID:10000116-1776844800-1776877200@jumpstartinc.org
SUMMARY:Free Coworking Day
DESCRIPTION:Join Bounce for Free Coworking Day on the 4th Wednesday of every month! Bring your task list\, schedule a meeting and join us for part or all of the day. This is a great way to see what we have to offer and get to know the community in The Generator at Bounce.
URL:https://jumpstartinc.org/event/free-coworking-day/2026-04-22
LOCATION:Bounce Innovation Hub\, 526 South Main Street\, Akron\, OH\, 44311\, United States
CATEGORIES:Tech
ATTACH;FMTTYPE=image/jpeg:https://jumpstartinc.org/wp-content/uploads/2026/03/bounce-coworking.jpg
END:VEVENT
BEGIN:VEVENT
DTSTART;TZID=America/Detroit:20260506T170000
DTEND;TZID=America/Detroit:20260506T190000
DTSTAMP:20260421T095920
CREATED:20250528T161233Z
LAST-MODIFIED:20260309T201354Z
UID:10000066-1778086800-1778094000@jumpstartinc.org
SUMMARY:Customer Discovery with AI
DESCRIPTION:Customer Discovery with AI Tools helps entrepreneurs understand their customers more effectively using artificial intelligence. Participants explore tools like ChatGPT\, Typeform\, and analytics platforms to generate survey questions\, identify trends\, and extract actionable insights. This hands-on workshop equips small business owners with practical strategies to align their products and services with real customer needs. 
URL:https://jumpstartinc.org/event/customer-discovery-with-ai
LOCATION:CSU Learning Center\, 2485 Euclid Ave.\, Cleveland\, OH\, 44115\, United States
CATEGORIES:Cleveland Learning Centers,Small Business,Tech
ATTACH;FMTTYPE=image/jpeg:https://jumpstartinc.org/wp-content/uploads/2025/05/verizon-events.jpg
END:VEVENT
BEGIN:VEVENT
DTSTART;TZID=America/Detroit:20260514T080000
DTEND;TZID=America/Detroit:20260514T180000
DTSTAMP:20260421T095920
CREATED:20260326T183605Z
LAST-MODIFIED:20260326T183605Z
UID:10000128-1778745600-1778781600@jumpstartinc.org
SUMMARY:Ohio Tech Summit 2026
DESCRIPTION:The Ohio Tech Summit is where innovators\, executives\, and entrepreneurs come together to build what’s next for Ohio’s growing tech sector. \nJoin us on Thursday\, May 14\, 2026\, at the Ohio Union at The Ohio State University (Columbus\, OH) for the Ohio Tech Summit. The Ohio Tech Summit is a full day of content and experiences where Ohio tech shows-off and features high-profile speakers\, tech demos\, and networking.
URL:https://jumpstartinc.org/event/ohio-tech-summit-2026
LOCATION:Ohio Union\, 1739 North High Street\, Columbus\, OH\, 43210\, United States
CATEGORIES:Tech
ATTACH;FMTTYPE=image/jpeg:https://jumpstartinc.org/wp-content/uploads/2026/03/ohiox2026.jpg
END:VEVENT
BEGIN:VEVENT
DTSTART;TZID=America/Detroit:20260527T080000
DTEND;TZID=America/Detroit:20260527T170000
DTSTAMP:20260421T095920
CREATED:20260326T181336Z
LAST-MODIFIED:20260330T150736Z
UID:10000117-1779868800-1779901200@jumpstartinc.org
SUMMARY:Free Coworking Day
DESCRIPTION:Join Bounce for Free Coworking Day on the 4th Wednesday of every month! Bring your task list\, schedule a meeting and join us for part or all of the day. This is a great way to see what we have to offer and get to know the community in The Generator at Bounce.
URL:https://jumpstartinc.org/event/free-coworking-day/2026-05-27
LOCATION:Bounce Innovation Hub\, 526 South Main Street\, Akron\, OH\, 44311\, United States
CATEGORIES:Tech
ATTACH;FMTTYPE=image/jpeg:https://jumpstartinc.org/wp-content/uploads/2026/03/bounce-coworking.jpg
END:VEVENT
BEGIN:VEVENT
DTSTART;TZID=America/Detroit:20260611T103000
DTEND;TZID=America/Detroit:20260611T180000
DTSTAMP:20260421T095920
CREATED:20260416T193022Z
LAST-MODIFIED:20260416T193022Z
UID:10000138-1781173800-1781200800@jumpstartinc.org
SUMMARY:Trailblazer Spring Showcase - HealthTech
DESCRIPTION:Connecting healthcare innovators with investors and industry leaders to accelerate the future of health technology. \nExperience the future of healthcare innovation at this quarterly showcase featuring the latest cohort of JumpStart’s Trailblazer healthcare startups. Connect with entrepreneurs\, investors\, and industry leaders shaping the next generation of healthcare solutions. \nEvent Highlights: \n\nLive pitch presentations from breakthrough healthcare startups\nPanel discussions with top healthcare leaders and industry experts (Coming Soon!)\nPre-matched investor meetings\nNetworking lunch\nEvening reception\n\nJoin healthcare investors\, industry executives\, entrepreneurs\, and innovation leaders for a full day of insights\, connections\, and opportunities in the rapidly evolving healthcare technology landscape. \n 
URL:https://jumpstartinc.org/event/trailblazer-spring-showcase-healthtech
LOCATION:Midtown Collaboration Center\, 1974 East 66th Street\, Cleveland\, OH\, 44103\, United States
CATEGORIES:Tech
ATTACH;FMTTYPE=image/jpeg:https://jumpstartinc.org/wp-content/uploads/2026/04/ESP-HealthTech-Cohort5-Showcase-TicketBud-scaled.jpg
END:VEVENT
BEGIN:VEVENT
DTSTART;TZID=America/Detroit:20260624T080000
DTEND;TZID=America/Detroit:20260624T170000
DTSTAMP:20260421T095920
CREATED:20260326T181336Z
LAST-MODIFIED:20260330T150736Z
UID:10000118-1782288000-1782320400@jumpstartinc.org
SUMMARY:Free Coworking Day
DESCRIPTION:Join Bounce for Free Coworking Day on the 4th Wednesday of every month! Bring your task list\, schedule a meeting and join us for part or all of the day. This is a great way to see what we have to offer and get to know the community in The Generator at Bounce.
URL:https://jumpstartinc.org/event/free-coworking-day/2026-06-24
LOCATION:Bounce Innovation Hub\, 526 South Main Street\, Akron\, OH\, 44311\, United States
CATEGORIES:Tech
ATTACH;FMTTYPE=image/jpeg:https://jumpstartinc.org/wp-content/uploads/2026/03/bounce-coworking.jpg
END:VEVENT
BEGIN:VEVENT
DTSTART;TZID=America/Detroit:20260722T080000
DTEND;TZID=America/Detroit:20260722T170000
DTSTAMP:20260421T095920
CREATED:20260326T181336Z
LAST-MODIFIED:20260330T150736Z
UID:10000119-1784707200-1784739600@jumpstartinc.org
SUMMARY:Free Coworking Day
DESCRIPTION:Join Bounce for Free Coworking Day on the 4th Wednesday of every month! Bring your task list\, schedule a meeting and join us for part or all of the day. This is a great way to see what we have to offer and get to know the community in The Generator at Bounce.
URL:https://jumpstartinc.org/event/free-coworking-day/2026-07-22
LOCATION:Bounce Innovation Hub\, 526 South Main Street\, Akron\, OH\, 44311\, United States
CATEGORIES:Tech
ATTACH;FMTTYPE=image/jpeg:https://jumpstartinc.org/wp-content/uploads/2026/03/bounce-coworking.jpg
END:VEVENT
BEGIN:VEVENT
DTSTART;TZID=America/Detroit:20260723T100000
DTEND;TZID=America/Detroit:20260723T110000
DTSTAMP:20260421T095920
CREATED:20260105T141517Z
LAST-MODIFIED:20260105T141517Z
UID:10000098-1784800800-1784804400@jumpstartinc.org
SUMMARY:Caffeinated Ideas at Braintree
DESCRIPTION:Do you have a great business idea\, or do you already have a business and need some advice? Do you have business expertise and are willing to help others?\nIf any of these apply\, then join us for a cup of coffee and plan to brainstorm some business ideas with a group of knowledgeable and supportive experts. Entrepreneurs from throughout Northern Ohio are welcome to participate. \nWe encourage you to bring your ideas\, concepts and products\, no matter what stage of the development you are in\, and the group will explore the idea and help you to better position it for the market place. There is no cost to attend\, but please register. \nFor questions or additional information contact 419 610-5924 or bcohen@braintreepartners.org.
URL:https://jumpstartinc.org/event/caffeinated-ideas-at-braintree-4
LOCATION:Braintree Building\, 201 East Fifth Street\, Mansfield\, OH\, 44902\, United States
CATEGORIES:Small Business,Tech
ATTACH;FMTTYPE=image/jpeg:https://jumpstartinc.org/wp-content/uploads/2025/03/braintree-logo.jpg
END:VEVENT
BEGIN:VEVENT
DTSTART;TZID=America/Detroit:20260826T080000
DTEND;TZID=America/Detroit:20260826T170000
DTSTAMP:20260421T095920
CREATED:20260326T181336Z
LAST-MODIFIED:20260330T150736Z
UID:10000120-1787731200-1787763600@jumpstartinc.org
SUMMARY:Free Coworking Day
DESCRIPTION:Join Bounce for Free Coworking Day on the 4th Wednesday of every month! Bring your task list\, schedule a meeting and join us for part or all of the day. This is a great way to see what we have to offer and get to know the community in The Generator at Bounce.
URL:https://jumpstartinc.org/event/free-coworking-day/2026-08-26
LOCATION:Bounce Innovation Hub\, 526 South Main Street\, Akron\, OH\, 44311\, United States
CATEGORIES:Tech
ATTACH;FMTTYPE=image/jpeg:https://jumpstartinc.org/wp-content/uploads/2026/03/bounce-coworking.jpg
END:VEVENT
BEGIN:VEVENT
DTSTART;TZID=America/Detroit:20260923T080000
DTEND;TZID=America/Detroit:20260923T170000
DTSTAMP:20260421T095920
CREATED:20260326T181336Z
LAST-MODIFIED:20260330T150736Z
UID:10000121-1790150400-1790182800@jumpstartinc.org
SUMMARY:Free Coworking Day
DESCRIPTION:Join Bounce for Free Coworking Day on the 4th Wednesday of every month! Bring your task list\, schedule a meeting and join us for part or all of the day. This is a great way to see what we have to offer and get to know the community in The Generator at Bounce.
URL:https://jumpstartinc.org/event/free-coworking-day/2026-09-23
LOCATION:Bounce Innovation Hub\, 526 South Main Street\, Akron\, OH\, 44311\, United States
CATEGORIES:Tech
ATTACH;FMTTYPE=image/jpeg:https://jumpstartinc.org/wp-content/uploads/2026/03/bounce-coworking.jpg
END:VEVENT
BEGIN:VEVENT
DTSTART;TZID=America/Detroit:20261027T100000
DTEND;TZID=America/Detroit:20261027T110000
DTSTAMP:20260421T095920
CREATED:20260326T181839Z
LAST-MODIFIED:20260326T181839Z
UID:10000125-1793095200-1793098800@jumpstartinc.org
SUMMARY:Caffeinated Ideas at Braintree
DESCRIPTION:Do you have a great business idea\, or do you already have a business and need some advice? Do you have business expertise and are willing to help others?\nIf any of these apply\, then join us for a cup of coffee and plan to brainstorm some business ideas with a group of knowledgeable and supportive experts. Entrepreneurs from throughout Northern Ohio are welcome to participate. \nWe encourage you to bring your ideas\, concepts and products\, no matter what stage of the development you are in\, and the group will explore the idea and help you to better position it for the market place. There is no cost to attend\, but please register. \nFor questions or additional information contact 419 610-5924 or bcohen@braintreepartners.org.
URL:https://jumpstartinc.org/event/caffeinated-ideas-at-braintree-5
LOCATION:Braintree Building\, 201 East Fifth Street\, Mansfield\, OH\, 44902\, United States
CATEGORIES:Small Business,Tech
ATTACH;FMTTYPE=image/jpeg:https://jumpstartinc.org/wp-content/uploads/2025/03/braintree-logo.jpg
END:VEVENT
BEGIN:VEVENT
DTSTART;TZID=America/Detroit:20261028T080000
DTEND;TZID=America/Detroit:20261028T170000
DTSTAMP:20260421T095920
CREATED:20260326T181336Z
LAST-MODIFIED:20260330T150736Z
UID:10000122-1793174400-1793206800@jumpstartinc.org
SUMMARY:Free Coworking Day
DESCRIPTION:Join Bounce for Free Coworking Day on the 4th Wednesday of every month! Bring your task list\, schedule a meeting and join us for part or all of the day. This is a great way to see what we have to offer and get to know the community in The Generator at Bounce.
URL:https://jumpstartinc.org/event/free-coworking-day/2026-10-28
LOCATION:Bounce Innovation Hub\, 526 South Main Street\, Akron\, OH\, 44311\, United States
CATEGORIES:Tech
ATTACH;FMTTYPE=image/jpeg:https://jumpstartinc.org/wp-content/uploads/2026/03/bounce-coworking.jpg
END:VEVENT
BEGIN:VEVENT
DTSTART;TZID=America/Detroit:20261125T080000
DTEND;TZID=America/Detroit:20261125T170000
DTSTAMP:20260421T095920
CREATED:20260326T181336Z
LAST-MODIFIED:20260330T150736Z
UID:10000123-1795593600-1795626000@jumpstartinc.org
SUMMARY:Free Coworking Day
DESCRIPTION:Join Bounce for Free Coworking Day on the 4th Wednesday of every month! Bring your task list\, schedule a meeting and join us for part or all of the day. This is a great way to see what we have to offer and get to know the community in The Generator at Bounce.
URL:https://jumpstartinc.org/event/free-coworking-day/2026-11-25
LOCATION:Bounce Innovation Hub\, 526 South Main Street\, Akron\, OH\, 44311\, United States
CATEGORIES:Tech
ATTACH;FMTTYPE=image/jpeg:https://jumpstartinc.org/wp-content/uploads/2026/03/bounce-coworking.jpg
END:VEVENT
BEGIN:VEVENT
DTSTART;TZID=America/Detroit:20261223T080000
DTEND;TZID=America/Detroit:20261223T170000
DTSTAMP:20260421T095920
CREATED:20260326T181336Z
LAST-MODIFIED:20260330T150736Z
UID:10000124-1798012800-1798045200@jumpstartinc.org
SUMMARY:Free Coworking Day
DESCRIPTION:Join Bounce for Free Coworking Day on the 4th Wednesday of every month! Bring your task list\, schedule a meeting and join us for part or all of the day. This is a great way to see what we have to offer and get to know the community in The Generator at Bounce.
URL:https://jumpstartinc.org/event/free-coworking-day/2026-12-23
LOCATION:Bounce Innovation Hub\, 526 South Main Street\, Akron\, OH\, 44311\, United States
CATEGORIES:Tech
ATTACH;FMTTYPE=image/jpeg:https://jumpstartinc.org/wp-content/uploads/2026/03/bounce-coworking.jpg
END:VEVENT
END:VCALENDAR